BEGIN:VCALENDAR
VERSION:2.0
PRODID:-//Free Your Emotions - ECPv6.15.20//NONSGML v1.0//EN
CALSCALE:GREGORIAN
METHOD:PUBLISH
X-ORIGINAL-URL:https://freeyouremotions.com
X-WR-CALDESC:Events for Free Your Emotions
REFRESH-INTERVAL;VALUE=DURATION:PT1H
X-Robots-Tag:noindex
X-PUBLISHED-TTL:PT1H
BEGIN:VTIMEZONE
TZID:America/Toronto
BEGIN:DAYLIGHT
TZOFFSETFROM:-0500
TZOFFSETTO:-0400
TZNAME:EDT
DTSTART:20230312T070000
END:DAYLIGHT
BEGIN:STANDARD
TZOFFSETFROM:-0400
TZOFFSETTO:-0500
TZNAME:EST
DTSTART:20231105T060000
END:STANDARD
BEGIN:DAYLIGHT
TZOFFSETFROM:-0500
TZOFFSETTO:-0400
TZNAME:EDT
DTSTART:20240310T070000
END:DAYLIGHT
BEGIN:STANDARD
TZOFFSETFROM:-0400
TZOFFSETTO:-0500
TZNAME:EST
DTSTART:20241103T060000
END:STANDARD
BEGIN:DAYLIGHT
TZOFFSETFROM:-0500
TZOFFSETTO:-0400
TZNAME:EDT
DTSTART:20250309T070000
END:DAYLIGHT
BEGIN:STANDARD
TZOFFSETFROM:-0400
TZOFFSETTO:-0500
TZNAME:EST
DTSTART:20251102T060000
END:STANDARD
BEGIN:DAYLIGHT
TZOFFSETFROM:-0500
TZOFFSETTO:-0400
TZNAME:EDT
DTSTART:20260308T070000
END:DAYLIGHT
BEGIN:STANDARD
TZOFFSETFROM:-0400
TZOFFSETTO:-0500
TZNAME:EST
DTSTART:20261101T060000
END:STANDARD
END:VTIMEZONE
BEGIN:VEVENT
DTSTART;TZID=America/Toronto:20241119T183000
DTEND;TZID=America/Toronto:20250121T200000
DTSTAMP:20260423T223313
CREATED:20240909T145150Z
LAST-MODIFIED:20240910T184614Z
UID:3513-1732041000-1737489600@freeyouremotions.com
SUMMARY:ACCREDITATION SERIES - NOVEMBER - ONLINE - EVENINGS
DESCRIPTION:Online Accreditation To Become An\nEFT International Accredited Practitioner\nEVENINGS 6:30 pm – 8:00 pm\nNovember 19th to January 21st\, 2025\n(with a break for Christmas)\nNoticing the Buzz about the effectiveness and safety of EFT? \nCurious about the latest research? \nSeriously considering becoming Accredited? \nHave  you completed the Levels 1 & 2  EFT training with Susan Bushell? \nHave  you worked diligently on your Personal Peace Procedure? \nAre you ready to submit 2 of your 4 case histories? \nAre you nearing completion of 50 adult sessions of at least 45 minutes each with at least 20 different volunteers? \nHave you been attending office hours and feel ready to become Accredited as an EFT Practitioner with the world’s largest\, oldest and truly global training organization? \nDo you value continued learning online with Susan while receiving EFT International’s required 6 hours of Mentoring before Accreditation? \n \nIn this Intensive Zoom Video Series you will be mentored\nthroughout the entire eight week program. \nYou also receive two one-on-one customized\, online\, personal mentoring sessions with Susan for  your own specific needs as well as recordings of all eight video series meetings \nSpace is limited to only eight students so please register early\nto be sure there is a space for you \nThere won’t be another Accreditation Series until 2025 \n$950\nSave with the Early Bird Fee Until October 24th – $900\nTwo Easy Pays $450 \nA Customized\, Unique and Intensive Mentoring Experience for Serious EFT Students \n\nDesigned to Meet EFT International’s Requirements for Accreditation & Practice \nBuild Relationships With Other Dedicated EFT Students Ready To Bring Tapping Into Their Established Practice or New EFT Practice \n\nHere’s What’s Included\n \n8 weekly 90 minute evening webinars (and recordings)\nThe essentials to Becoming an Authentic & In-Demand\nEFT Practitioner with a successful practice\nThe Exponential Effect of Learning & Tapping in a Group\nTwo one-on-one sessions with Susan for customized assistance\nTips for creating a professional look for your practice\nTips and importance of Marketing\nMentoring and Case History Feedback Including Suggestions for Improving Your\n“Art of Delivery”\nBest Practices for Holding Clients and Yourself Safe\nPrivate Facebook Group for Ongoing Support\nWeekly session practice and implementation of your Personal Peace Procedure\nduring the Series\nSupport & Preparation for EFTi’s Online Exam\nOngoing Monthly Office Hours for your Questions & Concerns for as long as you need it\nSusan’s Promise of Commitment to Your Personal Development\nas you Continue to Become an Effective EFT Practitioner   \nThis Video Series Includes Some Very Yummy Stuff \nSelf Sabotage\nHealer’s Ego\nFear of Success\nFeeling Like A Fraud\nWorking With Challenging Clients\nTried and True Effective Business Practices\nGetting Started Wherever You Decide To Work\nAdding EFT To Your  Existing Practice\nBringing EFT Into An Established Clincial Setting\nHow To Introduce EFT To Skeptical Colleagues\nSetting Boundaries\, Avoiding Burnout\nTransference/Countertransference\nCreating LIfe Balance As A Helper\nWhen To Refer a Client and How\nWorking with Challenging and Deeply Complex Cases\nHow To Assess and Treat Fight or Flight Response\nHow to Hold Your Client Safe Through A Freeze Discharge\nMaking a Good Living Including Blocks To Prosperity\nPreparing for EFT International’s multiple choice exam\nCustomized Assistance With Your Case Histories\nLots of online practice with fellow students\nContinued work on your Personal Peace Procedure \nYou must have completed both of Susan’s Level 1 & 2 EFT Trainings
URL:https://freeyouremotions.com/event/accreditation-series-november-online-evenings/
LOCATION:Online\, Canada
CATEGORIES:Accreditation
ATTACH;FMTTYPE=image/jpeg:https://freeyouremotions.com/wp-content/uploads/2017/12/Powerof8-Evenings.jpg
END:VEVENT
END:VCALENDAR